BEGIN:VCALENDAR
VERSION:2.0
PRODID:-//wp-events-plugin.com//6.6.5//EN
TZID:Europe/Zurich
X-WR-TIMEZONE:Europe/Zurich
BEGIN:VEVENT
UID:1862@iggh.ch
DTSTART;TZID=Europe/Zurich;VALUE=DATE:20220504
DTEND;TZID=Europe/Zurich;VALUE=DATE:20220505
DTSTAMP:20220416T133516Z
URL:https://www.iggh.ch/agenda/40-theaterfestival-auawirleben-2022-05-04/
SUMMARY:40. Theaterfestival AUAWIRLEBEN
DESCRIPTION:Es wird nur öffentlich gemacht\, was «instagrammable»\, also
  tauglich für Instagram ist: der sonnige\nStrandurlaub\, das neue Röckch
 en an der Gartenparty\, das Kätzchen auf dem Lammfell. Aber das\, was wir
 klich beschäftigt\, bleibt im Verborgenen: «The private matters».\n\nIm
  folgenden ausführlichen Festivalprogramm informieren entsprechende Symbo
 le\, ob ein Anlass in Gebärdensprache und/oder mit Übertitelung angebote
 n wird.\n\nBooklet PDF FESTIVAL AUAWIRLEBEN\n\nIm Schlachthaus Theater ist
  eine FM-Höranlage vorhanden.
ATTACH;FMTTYPE=image/jpeg:https://www.iggh.ch/wp-content/uploads/2022/04/D
 EFINITIV_AUAWIRLEBEN_22_Booklet_Newsletter-1.jpg
CATEGORIES:Gebärdensprach-Dolmetschdienst,Induktive Höranlage
END:VEVENT
BEGIN:VTIMEZONE
TZID:Europe/Zurich
X-LIC-LOCATION:Europe/Zurich
BEGIN:DAYLIGHT
DTSTART:20220327T030000
TZOFFSETFROM:+0100
TZOFFSETTO:+0200
TZNAME:CEST
END:DAYLIGHT
END:VTIMEZONE
END:VCALENDAR