BEGIN:VCALENDAR
VERSION:2.0
PRODID:-//wp-events-plugin.com//6.6.5//EN
TZID:Europe/Zurich
X-WR-TIMEZONE:Europe/Zurich
BEGIN:VEVENT
UID:5151@iggh.ch
DTSTART;TZID=Europe/Zurich:20260220T140000
DTEND;TZID=Europe/Zurich:20260220T160000
DTSTAMP:20251029T141305Z
URL:https://www.iggh.ch/agenda/2607-huttwil-hoertraining-mit-lippenlesen-2
 026-02-20/
SUMMARY:2607 Huttwil – Hörtraining mit Lippenlesen
DESCRIPTION:Leitung\nDoris Grünig\n\nKursdaten\nFreitag\, 13. Februar bis 
 27. März 2026\nKein Kurs am 05. März 2026\n\nKursdauer\n14.00 - 16.00 Uh
 r\, 6 × 2 Lektionen\n\nKursort\nHeilsarmee Huttwil\, Höhenweg 6\, 4950 H
 uttwil\n\nKursgeld\nCHF 216.00 für Nichtmitglieder\nCHF 108.00 für Mitgl
 ieder IGGH / Pro Audito Bern\n\nAnmeldeschluss\n11. Januar 2026\nIhre rasc
 he Kursanmeldung erleichtert uns die Kursplanung. Die Bestätigung erhalte
 n Sie nach Ablauf der Anmeldefrist.\n\n 
ATTACH;FMTTYPE=image/jpeg:https://www.iggh.ch/wp-content/uploads/2025/10/A
 dobeStock_183482831.jpg
CATEGORIES:Hörtraining mit Lippenlesen
END:VEVENT
BEGIN:VTIMEZONE
TZID:Europe/Zurich
X-LIC-LOCATION:Europe/Zurich
BEGIN:STANDARD
DTSTART:20251026T020000
TZOFFSETFROM:+0200
TZOFFSETTO:+0100
TZNAME:CET
END:STANDARD
END:VTIMEZONE
END:VCALENDAR