BEGIN:VCALENDAR
VERSION:2.0
PRODID:-//wp-events-plugin.com//6.6.5//EN
TZID:Europe/Zurich
X-WR-TIMEZONE:Europe/Zurich
BEGIN:VEVENT
UID:5147@iggh.ch
DTSTART;TZID=Europe/Zurich:20251203T140000
DTEND;TZID=Europe/Zurich:20251203T160000
DTSTAMP:20251029T140810Z
URL:https://www.iggh.ch/agenda/2562-burgdorf-hoertraining-mit-lippenlesen-
 2025-12-03/
SUMMARY:2562 Burgdorf – Hörtraining mit Lippenlesen
DESCRIPTION:Leitung\nDoris Grünig\n\nKursdaten\nMittwoch\, 05. November bi
 s 10. Dezember 2025\n\nKursdauer\n14.00 - 16.00 Uhr\, 6 × 2 Lektionen\n\n
 Kursort\nKirchgemeindehaus\, Lyssachstrasse 2\, 3400 Burgdorf\n\n\nKursgel
 d\nCHF 216.00 für Nichtmitglieder\nCHF 108.00 für Mitglieder IGGH / Pro 
 Audito Bern\n\nAnmeldeschluss\n21. September 2025\nIhre rasche Kursanmeldu
 ng erleichtert uns die Kursplanung. Die Bestätigung erhalten Sie nach Abl
 auf der Anmeldefrist.
ATTACH;FMTTYPE=image/jpeg:https://www.iggh.ch/wp-content/uploads/2025/10/A
 dobeStock_434385200-Lippenblesenkurse.jpeg
CATEGORIES:Hörtraining mit Lippenlesen
END:VEVENT
BEGIN:VTIMEZONE
TZID:Europe/Zurich
X-LIC-LOCATION:Europe/Zurich
BEGIN:STANDARD
DTSTART:20251026T020000
TZOFFSETFROM:+0200
TZOFFSETTO:+0100
TZNAME:CET
END:STANDARD
END:VTIMEZONE
END:VCALENDAR