BEGIN:VCALENDAR
VERSION:2.0
PRODID:-//wp-events-plugin.com//6.6.5//EN
TZID:Europe/Zurich
X-WR-TIMEZONE:Europe/Zurich
BEGIN:VEVENT
UID:4512@iggh.ch
DTSTART;TZID=Europe/Zurich:20250816T000000
DTEND;TZID=Europe/Zurich:20250816T000000
DTSTAMP:20250318T105352Z
URL:https://www.iggh.ch/agenda/2540-ferienwoche-2025/
SUMMARY:2540 Ferienwoche 2025
DESCRIPTION:FERIEN IN OBERÄGERI\n\nDas Hotel Ländli liegt direkt am Äger
 isee und hat sogar eine eigene Schiffsstation. Ausserdem verfügt das Hote
 l über eine Wellnessanlage unter anderem mit Whirlpool\, Sauna und Dampfb
 ad. Diese steht den Hotelgästen gratis zur Verfügung. Die Umgebung des 
 Ägerital lädt ein zu Wanderungen mit schönem Ausblick\, einen Ausflug i
 ns Dorf Oberägeri oder eine Schifffahrt auf dem Ägerisee. Auf Ihre Anmel
 dung freut sich das Team der Ferienwoche.\n\nLeitung\nTeam Ferienwoche\n\n
 Ferienwoche\nSamstag\, 16. – 23. August 2025\n\nKosten\nHotelzimmer mit 
 Halbpension\nCHF 1600.00 für Nichtmitglieder\nCHF   800.00 für Mitglie
 der IGGH/Pro Audito Bern\n\nPauschale Ausflüge während der Woche\nCHF 50
 .00 ohne Vergünstigung\nCHF 25.00 Teilnehmende mit Halbtax (Swisspass)\nC
 HF 10.00 Teilnehmende mit Generalabonnement/Begleitausweis\nZusätzlich An
 teil der An- und Abreise (Betrag ändert sich je nach Anzahl Teilnehmenden
 )\n\nAnmeldeschluss\n27. April 2025\nMomentan sind alle Plätze belegt. Be
 i Interesse können weitere Teilnehmende auf die Warteliste aufgenommen we
 rden.\n\nBitte melden Sie sich bei der Geschäftstelle IGGH.
ATTACH;FMTTYPE=image/jpeg:https://www.iggh.ch/wp-content/uploads/2024/11/H
 oefli.jpg
CATEGORIES:Ferienwoche
END:VEVENT
BEGIN:VTIMEZONE
TZID:Europe/Zurich
X-LIC-LOCATION:Europe/Zurich
BEGIN:DAYLIGHT
DTSTART:20250330T030000
TZOFFSETFROM:+0100
TZOFFSETTO:+0200
TZNAME:CEST
END:DAYLIGHT
END:VTIMEZONE
END:VCALENDAR