BEGIN:VCALENDAR
VERSION:2.0
PRODID:-//wp-events-plugin.com//6.6.5//EN
TZID:Europe/Zurich
X-WR-TIMEZONE:Europe/Zurich
BEGIN:VEVENT
UID:4514@iggh.ch
DTSTART;TZID=Europe/Zurich:20250124T180000
DTEND;TZID=Europe/Zurich:20250124T190000
DTSTAMP:20250127T073457Z
URL:https://www.iggh.ch/agenda/2537-line-dance-2025-01-24/
SUMMARY:2537 Line Dance
DESCRIPTION:Leitung\nSandra Schär\n\nKursdaten\nFreitag\, 24. Januar bis 1
 4. März 2025\nKein Kurs am 7. Februar 2025\n\nKursdauer\n18.00 - 19.00 Uh
 r\, 7 × 1 Lektion\n\nKursort\nTanzlounge\, Neuengasse 24\, 3011 Bern\n\nK
 ursgeld\nCHF 280.00 für Nichtmitglieder\nCHF 140.00 für Mitglieder IGGH 
 / Pro Audito Bern\n\nAnmeldeschluss\n8. Dezember 2024
ATTACH;FMTTYPE=image/jpeg:https://www.iggh.ch/wp-content/uploads/2024/11/L
 ine_Dance_Stiefel_AdobeStock_893872985-scaled.jpeg
CATEGORIES:Fit und Freizeit,Weitere Kurse
END:VEVENT
BEGIN:VTIMEZONE
TZID:Europe/Zurich
X-LIC-LOCATION:Europe/Zurich
BEGIN:STANDARD
DTSTART:20241027T020000
TZOFFSETFROM:+0200
TZOFFSETTO:+0100
TZNAME:CET
END:STANDARD
END:VTIMEZONE
END:VCALENDAR