BEGIN:VCALENDAR
VERSION:2.0
PRODID:-//wp-events-plugin.com//6.6.5//EN
TZID:Europe/Zurich
X-WR-TIMEZONE:Europe/Zurich
BEGIN:VEVENT
UID:4619@iggh.ch
DTSTART;TZID=Europe/Zurich:20250611T154500
DTEND;TZID=Europe/Zurich:20250611T163500
DTSTAMP:20250512T072457Z
URL:https://www.iggh.ch/agenda/2515-hoertraining-fuer-ci-und-hoersystemtra
 gende-2025-06-11/
SUMMARY:ABGESAGT - 2515 Hörtraining für CI- und Hörsystemtragende
DESCRIPTION:Leitung\n\nDoris Grünig\n\nKursdaten\nMittwoch\, 11. Juni – 
 09. Juli 2025\n\nKursdauer\n15.45 – 16.35 Uhr\, 5 × 1 Lektion\n\nKursor
 t\nKursraum 3. OG\, Belpstrasse 26\, 3007 Bern\n\nKursgeld\nCHF 90.00 für
  Nichtmitglieder\nCHF 45.00 für Mitglieder IGGH / Pro Audito Bern\n\nAnme
 ldeschluss\n11. Mai 2025\nIhre rasche Kursanmeldung erleichtert uns die Ku
 rsplanung\n\nWeitere Informationen\nKostenlose Schnupperlektion jederzeit 
 möglich!\n\nWeitere Informationen zum Kurs
ATTACH;FMTTYPE=image/jpeg:https://www.iggh.ch/wp-content/uploads/2025/01/A
 dobeStock_252954311.jpg
CATEGORIES:Abgesagt,Hörtraining für CI
END:VEVENT
BEGIN:VTIMEZONE
TZID:Europe/Zurich
X-LIC-LOCATION:Europe/Zurich
BEGIN:DAYLIGHT
DTSTART:20250330T030000
TZOFFSETFROM:+0100
TZOFFSETTO:+0200
TZNAME:CEST
END:DAYLIGHT
END:VTIMEZONE
END:VCALENDAR