BEGIN:VCALENDAR
VERSION:2.0
PRODID:-//wp-events-plugin.com//6.6.5//EN
TZID:Europe/Zurich
X-WR-TIMEZONE:Europe/Zurich
BEGIN:VEVENT
UID:4314@iggh.ch
DTSTART;TZID=Europe/Zurich:20250314T141500
DTEND;TZID=Europe/Zurich:20250314T160500
DTSTAMP:20241111T090108Z
URL:https://www.iggh.ch/agenda/2502-bern-hoertraining-mit-lippenlesen-2025
 -03-14/
SUMMARY:2502 Bern – Hörtraining mit Lippenlesen
DESCRIPTION:Leitung\nAnita Jäger\nBarbara Gasser\n\nKursdaten\nFreitag\, 7
 . Februar – 14. März 2025\n\nKursdauer\n14.15 – 16.05 Uhr\, 6 × 2 Le
 ktionen\n\nKursort\nKursraum 3. OG\, Belpstrasse 26\, 3007 Bern\n\nKursgel
 d\nCHF 216.00 für Nichtmitglieder\nCHF 108.00 für Mitglieder IGGH / Pro 
 Audito Bern\n\nAnmeldeschluss\n3. Januar 2025\n\nWeitere Informationen\nKo
 stenlose Schnupperlektion jederzeit möglich!
ATTACH;FMTTYPE=image/jpeg:https://www.iggh.ch/wp-content/uploads/2022/10/A
 dobeStock_434385200-Lippenblesenkurse-1.jpeg
CATEGORIES:Hörtraining mit Lippenlesen
END:VEVENT
BEGIN:VTIMEZONE
TZID:Europe/Zurich
X-LIC-LOCATION:Europe/Zurich
BEGIN:STANDARD
DTSTART:20241027T020000
TZOFFSETFROM:+0200
TZOFFSETTO:+0100
TZNAME:CET
END:STANDARD
END:VTIMEZONE
END:VCALENDAR