BEGIN:VCALENDAR
VERSION:2.0
PRODID:-//wp-events-plugin.com//6.6.5//EN
TZID:Europe/Zurich
X-WR-TIMEZONE:Europe/Zurich
BEGIN:VEVENT
UID:4254@iggh.ch
DTSTART;TZID=Europe/Zurich:20241014T165000
DTEND;TZID=Europe/Zurich:20241014T180000
DTSTAMP:20241205T104226Z
URL:https://www.iggh.ch/agenda/2486-muenchenbuchsee-seniorenturnen-fuer-ge
 hoerlose-60-plus-4-quartal-2024-2024-10-14/
SUMMARY:2486 Münchenbuchsee – Turnen für Gehörlose und Hörbehinderte 
 60 Plus - 4. Quartal 2024
DESCRIPTION:Kursdaten\nMontag\, 14. Oktober bis 16. Dezember 2024\nKein Tur
 nen am 25. November (Ziebelemärit)\n\n\nKursdauer\n16.50 - 18.00 Uhr\, 9 
 × 1.2 Lektionen\n\nKursort\nTurnhalle 2\nPädagogisches Zentrum für Hör
 en und Sprache HSM\, Klosterweg 7\, 3053 Münchenbuchsee\n\nKursgeld\nCHF 
 172.80 für Nichtmitglieder\nCHF   86.40 für Mitglieder IGGH / Pro Audi
 to Bern\n\nAnmeldeschluss\n14. Seotember 2024\n\nWeitere Informationen\nKo
 stenlose Schnupperlektion jederzeit möglich!
ATTACH;FMTTYPE=image/jpeg:https://www.iggh.ch/wp-content/uploads/2021/08/D
 SC_0412_korrigiert-scaled.jpg
CATEGORIES:Fit und Freizeit,Turnen für Gehörlose und Hörbehinderte 60+
END:VEVENT
BEGIN:VTIMEZONE
TZID:Europe/Zurich
X-LIC-LOCATION:Europe/Zurich
BEGIN:DAYLIGHT
DTSTART:20240331T030000
TZOFFSETFROM:+0100
TZOFFSETTO:+0200
TZNAME:CEST
END:DAYLIGHT
END:VTIMEZONE
END:VCALENDAR