BEGIN:VCALENDAR
VERSION:2.0
PRODID:-//wp-events-plugin.com//6.6.5//EN
TZID:Europe/Zurich
X-WR-TIMEZONE:Europe/Zurich
BEGIN:VEVENT
UID:4216@iggh.ch
DTSTART;TZID=Europe/Zurich:20240805T091500
DTEND;TZID=Europe/Zurich:20240805T104500
DTSTAMP:20240729T091310Z
URL:https://www.iggh.ch/agenda/2482-bern-englisch-niveau-b2-3-quartal-2024
 -2024-08-05/
SUMMARY:2482 Bern – Englisch Niveau B2 - 3. Quartal 2024
DESCRIPTION:Leitung\nHans Stalder\n\nKursdaten\nMontag\, 5. August – 9. S
 eptember 2024\n\nKursdauer\n09.15 - 10.45 Uhr\, 6 × 2 Lektionen\n\nKursor
 t\nKursraum 3. OG\, Belpstrasse 26\, 3007 Bern\n\nKursgeld\nCHF 240.00 fü
 r Nichtmitglieder\nCHF 120.00 für Mitglieder IGGH / Pro Audito Bern\n\nAn
 meldeschluss\n5. September 2024\nWeitere Anmeldungen jederzeit möglich!\n
 \nWeitere Informationen\nKostenlose Schnupperlektion jederzeit möglich!
ATTACH;FMTTYPE=image/jpeg:https://www.iggh.ch/wp-content/uploads/2021/05/F
 otolia_94419509_S.jpg
CATEGORIES:Englisch
END:VEVENT
BEGIN:VTIMEZONE
TZID:Europe/Zurich
X-LIC-LOCATION:Europe/Zurich
BEGIN:DAYLIGHT
DTSTART:20240331T030000
TZOFFSETFROM:+0100
TZOFFSETTO:+0200
TZNAME:CEST
END:DAYLIGHT
END:VTIMEZONE
END:VCALENDAR