BEGIN:VCALENDAR
VERSION:2.0
PRODID:-//wp-events-plugin.com//6.6.5//EN
TZID:Europe/Zurich
X-WR-TIMEZONE:Europe/Zurich
BEGIN:VEVENT
UID:4204@iggh.ch
DTSTART;TZID=Europe/Zurich:20241007T180000
DTEND;TZID=Europe/Zurich:20241007T193000
DTSTAMP:20240917T070034Z
URL:https://www.iggh.ch/agenda/2481-bern-englisch-b1-4-quartal-2024-2024-1
 0-07/
SUMMARY:2481 Bern – Englisch B1 - 4. Quartal 2024
DESCRIPTION:Leitung\nHans Stalder\n\nKursdaten\nMontag\, 7. Oktober – 16.
  Dezember 2024\n\nKursdauer\n18.00 - 19.30 Uhr\, 11 × 2 Lektionen\n\nKurs
 ort\nKursraum 3. OG\, Belpstrasse 26\, 3007 Bern\n\nKursgeld\nCHF 440.00 f
 ür Nichtmitglieder\nCHF 220.00 für Mitglieder IGGH / Pro Audito Bern\n\n
 Anmeldeschluss\nKurs findet definitiv statt\, weitere Anmeldungen auf Anfr
 age möglich\n\nWeitere Informationen\nKostenlose Schnupperlektion jederze
 it möglich!
ATTACH;FMTTYPE=image/jpeg:https://www.iggh.ch/wp-content/uploads/2022/11/A
 dobeStock_48866246-scaled.jpeg
CATEGORIES:Englisch
END:VEVENT
BEGIN:VTIMEZONE
TZID:Europe/Zurich
X-LIC-LOCATION:Europe/Zurich
BEGIN:DAYLIGHT
DTSTART:20240331T030000
TZOFFSETFROM:+0100
TZOFFSETTO:+0200
TZNAME:CEST
END:DAYLIGHT
END:VTIMEZONE
END:VCALENDAR