BEGIN:VCALENDAR
VERSION:2.0
PRODID:-//wp-events-plugin.com//6.6.5//EN
TZID:Europe/Zurich
X-WR-TIMEZONE:Europe/Zurich
BEGIN:VEVENT
UID:4126@iggh.ch
DTSTART;TZID=Europe/Zurich:20241101T141500
DTEND;TZID=Europe/Zurich:20241101T160500
DTSTAMP:20240627T153055Z
URL:https://www.iggh.ch/agenda/2452-bern-hoertraining-mit-lippenlesen-2024
 -11-01/
SUMMARY:2452 Bern – Hörtraining mit Lippenlesen
DESCRIPTION:Leitung\nAnita Jäger\nBarbara Gasser\n\nKursdaten\nFreitag\, 2
 5. Oktober – 13. Dezember 2024\n\nKursdauer\n14.15 – 16.05 Uhr\, 8 × 
 2 Lektionen\n\nKursort\nKursraum 3. OG\, Belpstrasse 26\, 3007 Bern\n\nKur
 sgeld\nCHF 288.00 für Nichtmitglieder\nCHF 144.00 für Mitglieder IGGH / 
 Pro Audito Bern\n\nAnmeldeschluss\n25. September 2024\n\nWeitere Informati
 onen\nKostenlose Schnupperlektion jederzeit möglich!
ATTACH;FMTTYPE=image/jpeg:https://www.iggh.ch/wp-content/uploads/2022/10/A
 dobeStock_434385200-Lippenblesenkurse-1.jpeg
CATEGORIES:Hörtraining mit Lippenlesen
END:VEVENT
BEGIN:VTIMEZONE
TZID:Europe/Zurich
X-LIC-LOCATION:Europe/Zurich
BEGIN:STANDARD
DTSTART:20241027T020000
TZOFFSETFROM:+0200
TZOFFSETTO:+0100
TZNAME:CET
END:STANDARD
END:VTIMEZONE
END:VCALENDAR