BEGIN:VCALENDAR
VERSION:2.0
PRODID:-//wp-events-plugin.com//6.6.5//EN
TZID:Europe/Zurich
X-WR-TIMEZONE:Europe/Zurich
BEGIN:VEVENT
UID:3682@iggh.ch
DTSTART;TZID=Europe/Zurich:20240817T000000
DTEND;TZID=Europe/Zurich:20240817T000000
DTSTAMP:20240226T082016Z
URL:https://www.iggh.ch/agenda/2440-ferienwoche-2024-in-rheinfelden/
SUMMARY:2440 Ferienwoche 2024 in Rheinfelden
DESCRIPTION:Willkommen in Rheinfelden\, dem charmanten Juwel am Rhein in de
 r Schweiz! Tauchen Sie ein in die malerische Schönheit dieser Stadt\, die
  mit ihrer faszinierenden Mischung aus Geschichte\, Kultur und Natur begei
 stert. Schlendern Sie durch die malerischen Strassen der Altstadt\, wo mit
 telalterliche Architektur und moderne Geschäfte harmonisch nebeneinander 
 existieren. Entspannen Sie sich in den Thermalbädern und bei den Ausflüg
 en!\nDie Ferienwoche wird von Pro Audito Bern unterstützt.\n\nLeitung\nTe
 am Ferienwoche\n\nFerienwoche\nSamstag\, 17. – 24. August 2024\n\nFerien
 ort\nHotel Schützen\, Bahnhofstrasse 19\, 4310 Rheinfelden\n\nKosten\nHot
 elzimmer mit Halbpension\nCHF 1400.00 für Nichtmitglieder\nCHF   700.00
  für Mitglieder IGGH/Pro Audito Bern\n\nPauschale Ausflüge während der 
 Woche\nCHF 50.00 ohne Vergünstigung\nCHF 25.00 Teilnehmende mit Halbtax (
 Swisspass)\nCHF 10.00 Teilnehmende mit Generalabonnement\nZusätzlich Ante
 il der An- und Abreise (Betrag ändert sich je nach Anzahl Teilnehmenden)\
 n\nAnmeldeschluss\n30. April 2024\nIhre rasche Anmeldung erleichtert uns d
 ie Planung.
ATTACH;FMTTYPE=image/jpeg:https://www.iggh.ch/wp-content/uploads/2023/11/A
 dobeStock_277846168-scaled.jpg
CATEGORIES:Ferienwoche
END:VEVENT
BEGIN:VTIMEZONE
TZID:Europe/Zurich
X-LIC-LOCATION:Europe/Zurich
BEGIN:DAYLIGHT
DTSTART:20240331T030000
TZOFFSETFROM:+0100
TZOFFSETTO:+0200
TZNAME:CEST
END:DAYLIGHT
END:VTIMEZONE
END:VCALENDAR