BEGIN:VCALENDAR
VERSION:2.0
PRODID:-//wp-events-plugin.com//6.6.5//EN
TZID:Europe/Zurich
X-WR-TIMEZONE:Europe/Zurich
BEGIN:VEVENT
UID:3577@iggh.ch
DTSTART;TZID=Europe/Zurich:20240301T140000
DTEND;TZID=Europe/Zurich:20240301T160000
DTSTAMP:20231113T125054Z
URL:https://www.iggh.ch/agenda/2410-huttwil-hoertraining-mit-lippenlesen-2
 024-03-01/
SUMMARY:2410 Huttwil – Hörtraining mit Lippenlesen
DESCRIPTION:Leitung\nDoris Grünig\n\nKursdaten\nFreitag\, 16. Februar – 
 22. März 2024\n\nKursdauer\n14.00 - 16.00 Uhr\, 6 × 2 Lektionen\n\nKurso
 rt\nHeilsarmee Huttwil\, Höhenweg 6\, 4950 Huttwil\n\nKursgeld\nCHF 216.0
 0 für Nichtmitglieder\nCHF 108.00 für Mitglieder IGGH / Pro Audit\n\nAnm
 eldeschluss\n14. Januar 2024\n\n 
ATTACH;FMTTYPE=image/jpeg:https://www.iggh.ch/wp-content/uploads/2022/10/A
 dobeStock_434385200-Lippenblesenkurse-1.jpeg
CATEGORIES:Hörtraining mit Lippenlesen
END:VEVENT
BEGIN:VTIMEZONE
TZID:Europe/Zurich
X-LIC-LOCATION:Europe/Zurich
BEGIN:STANDARD
DTSTART:20231029T020000
TZOFFSETFROM:+0200
TZOFFSETTO:+0100
TZNAME:CET
END:STANDARD
END:VTIMEZONE
END:VCALENDAR