BEGIN:VCALENDAR
VERSION:2.0
PRODID:-//wp-events-plugin.com//6.6.5//EN
TZID:Europe/Zurich
X-WR-TIMEZONE:Europe/Zurich
BEGIN:VEVENT
UID:3590@iggh.ch
DTSTART;TZID=Europe/Zurich:20240222T091500
DTEND;TZID=Europe/Zurich:20240222T111500
DTSTAMP:20231113T125752Z
URL:https://www.iggh.ch/agenda/2409-langenthal-hoertraining-mit-lippenlese
 n-2024-02-22/
SUMMARY:2409 Langenthal – Hörtraining mit Lippenlesen
DESCRIPTION:Leitung\nDoris Grünig\n\nKursdaten\nDonnerstag\, 15. Februar 
 – 21. März 2024\n\nKursdauer\n09.15 - 11.15 Uhr\, 6 × 2 Lektionen\n\nK
 ursort\nröm.-kath. Kirchgemeinde\, Hasenmattstrasse 36\, 4900 Langenthal\
 n\nKursgeld\nCHF 216.00 für Nichtmitglieder\nCHF 108.00 für Mitglieder I
 GGH / Pro Audito Bern\n\nAnmeldeschluss\n24. September 2023\n\n 
ATTACH;FMTTYPE=image/jpeg:https://www.iggh.ch/wp-content/uploads/2022/10/A
 dobeStock_434385200-Lippenblesenkurse-1.jpeg
CATEGORIES:Hörtraining mit Lippenlesen
END:VEVENT
BEGIN:VTIMEZONE
TZID:Europe/Zurich
X-LIC-LOCATION:Europe/Zurich
BEGIN:STANDARD
DTSTART:20231029T020000
TZOFFSETFROM:+0200
TZOFFSETTO:+0100
TZNAME:CET
END:STANDARD
END:VTIMEZONE
END:VCALENDAR