BEGIN:VCALENDAR
VERSION:2.0
PRODID:-//wp-events-plugin.com//6.6.5//EN
TZID:Europe/Zurich
X-WR-TIMEZONE:Europe/Zurich
BEGIN:VEVENT
UID:4359@iggh.ch
DTSTART;TZID=Europe/Zurich:20250403T133000
DTEND;TZID=Europe/Zurich:20250403T152000
DTSTAMP:20241111T122348Z
URL:https://www.iggh.ch/agenda/2408-langnau-hoertraining-mit-lippenlesen-2
 025-04-03/
SUMMARY:2508 Langnau – Hörtraining mit Lippenlesen
DESCRIPTION:Leitung\nBarbara Gasser und Ursula Hänni\n\nKursdaten\nDonners
 tag\, 27. Februar – 3. April 2025\n\nKursdauer\n13.30 - 15.20 Uhr\, 6 ×
  2 Lektionen\n\nKursort\nKath. Pfarreizentrum\, Oberfeldstrasse 8\, 3550 L
 angnau im Emmental\n\n\nKursgeld\nCHF 216.00 für Nichtmitglieder\nCHF 108
 .00 für Mitglieder IGGH / Pro Audito Bern\n\nAnmeldeschluss\n26. Januar 2
 025\n\n&nbsp\;\n\n 
ATTACH;FMTTYPE=image/jpeg:https://www.iggh.ch/wp-content/uploads/2022/10/A
 dobeStock_434385200-Lippenblesenkurse-1.jpeg
CATEGORIES:Hörtraining mit Lippenlesen
END:VEVENT
BEGIN:VTIMEZONE
TZID:Europe/Zurich
X-LIC-LOCATION:Europe/Zurich
BEGIN:DAYLIGHT
DTSTART:20250330T030000
TZOFFSETFROM:+0100
TZOFFSETTO:+0200
TZNAME:CEST
END:DAYLIGHT
END:VTIMEZONE
END:VCALENDAR