BEGIN:VCALENDAR
VERSION:2.0
PRODID:-//wp-events-plugin.com//6.6.5//EN
TZID:Europe/Zurich
X-WR-TIMEZONE:Europe/Zurich
BEGIN:VEVENT
UID:3773@iggh.ch
DTSTART;TZID=Europe/Zurich:20240408T091500
DTEND;TZID=Europe/Zurich:20240408T091500
DTSTAMP:20231114T081539Z
URL:https://www.iggh.ch/agenda/2404-bern-hoertraining-mit-lippenlesen-inte
 nsivkurs-2024-04-08/
SUMMARY:2404 Bern – Hörtraining mit Lippenlesen Intensivkurs
DESCRIPTION:Leitung\nDoris Grünig und Barbara Gasser\n\nKursdaten\nMontag 
 bis Freitag\, 08. April – 12. April 2024\n\nKursdauer\n09.15 – 11.05 U
 hr\, 5 × 2 Lektionen\n\nKursort\nWalkerhaus\, Belpstrasse 24\, 3007 Bern\
 n\nKursgeld\nCHF 180.00 für Nichtmitglieder\nCHF   90.00 für Mitgliede
 r IGGH / Pro Audito\n\nAnmeldeschluss\n03. März 2024\nIhre rasche Kursanm
 eldung erleichtert uns die Kursplanung\n\nWeitere Informationen\nKostenlos
 e Schnupperlektion jederzeit möglich!
ATTACH;FMTTYPE=image/jpeg:https://www.iggh.ch/wp-content/uploads/2022/10/A
 dobeStock_434385200-Lippenblesenkurse-1.jpeg
CATEGORIES:Hörtraining mit Lippenlesen,Intensivkurs
END:VEVENT
BEGIN:VTIMEZONE
TZID:Europe/Zurich
X-LIC-LOCATION:Europe/Zurich
BEGIN:DAYLIGHT
DTSTART:20240331T030000
TZOFFSETFROM:+0100
TZOFFSETTO:+0200
TZNAME:CEST
END:DAYLIGHT
END:VTIMEZONE
END:VCALENDAR