BEGIN:VCALENDAR
VERSION:2.0
PRODID:-//wp-events-plugin.com//6.6.5//EN
TZID:Europe/Zurich
X-WR-TIMEZONE:Europe/Zurich
BEGIN:VEVENT
UID:2167@iggh.ch
DTSTART;TZID=Europe/Zurich:20221112T090000
DTEND;TZID=Europe/Zurich:20221112T090000
DTSTAMP:20220707T092747Z
URL:https://www.iggh.ch/agenda/2290-kochkurs-schnelle-kueche-mit-resten/
SUMMARY:2290 - Kochkurs - schnelle Küche mit Resten
DESCRIPTION:Leitung\nGiuseppe Ferrante\, Diätkoch EFZ\n\nDatum\nSamstag\, 
 12. November 2022\n\nDauer\n09.00 - 12.00 Uhr / 13.00 - 16.00 Uhr\, 1 x 6 
 Lektionen\n\nOrt\nWalkerhaus\, Belpstrasse 24\, 3007 Bern\n\nKosten\nCHF 2
 10.00 für Nichtmitglieder\nCHF 150.00 für Mitglieder IGGH / pro audito\n
 CHF 120.00 für IV-Rentner oder AHV-Rentner mit EL\n\n\nAnmeldeschluss\n14
 . Oktober 2022\n\nWeitere Information\nDie Kurse werden in Deutschschweize
 rische Gebärdensprache (DSGS) übersetzt\, und eine FM-Höranlage steht z
 ur Verfügung.
ATTACH;FMTTYPE=image/jpeg:https://www.iggh.ch/wp-content/uploads/2022/06/A
 dobeStock_235582346-scaled.jpeg
CATEGORIES:Kochkurs,Veranstaltung
END:VEVENT
BEGIN:VTIMEZONE
TZID:Europe/Zurich
X-LIC-LOCATION:Europe/Zurich
BEGIN:STANDARD
DTSTART:20221030T020000
TZOFFSETFROM:+0200
TZOFFSETTO:+0100
TZNAME:CET
END:STANDARD
END:VTIMEZONE
END:VCALENDAR