BEGIN:VCALENDAR
VERSION:2.0
PRODID:-//wp-events-plugin.com//6.6.5//EN
TZID:Europe/Zurich
X-WR-TIMEZONE:Europe/Zurich
BEGIN:VEVENT
UID:2166@iggh.ch
DTSTART;TZID=Europe/Zurich:20220917T090000
DTEND;TZID=Europe/Zurich:20220917T090000
DTSTAMP:20220923T151945Z
URL:https://www.iggh.ch/agenda/2289-kochkurs-vegan-vegetarisch/
SUMMARY:2289 - Kochkurs vegan / vegetarisch
DESCRIPTION:Der Kurs findet nicht statt!\nLeitung\nGiuseppe Ferrante\, Diä
 tkoch EFZ\n\nDatum\nSamstag\, 17. September 2022\n\nDauer\n09.00 - 12.00 U
 hr / 13.00 - 16.00 Uhr\n1 x 6 Lektionen\n\nOrt\nWalkerhaus\, Belpstrasse 2
 4\, 3007 Bern\n\nKosten\nCHF 210.00 für Nichtmitglieder\nCHF 150.00 für 
 Mitglieder IGGH / pro audito\nCHF 120.00 für IV-Rentner oder AHV-Rentner 
 mit EL\n\n\nAnmeldeschluss\n19. August 2022\n\nWeitere Information\nDie Ku
 rse werden in Deutschschweizerische Gebärdensprache (DSGS) übersetzt\, u
 nd eine FM-Höranlage steht zur Verfügung.
ATTACH;FMTTYPE=image/jpeg:https://www.iggh.ch/wp-content/uploads/2022/06/A
 dobeStock_235582346-scaled.jpeg
CATEGORIES:Abgesagt,Kochkurs,Veranstaltung
END:VEVENT
BEGIN:VTIMEZONE
TZID:Europe/Zurich
X-LIC-LOCATION:Europe/Zurich
BEGIN:DAYLIGHT
DTSTART:20220327T030000
TZOFFSETFROM:+0100
TZOFFSETTO:+0200
TZNAME:CEST
END:DAYLIGHT
END:VTIMEZONE
END:VCALENDAR