BEGIN:VCALENDAR
VERSION:2.0
PRODID:-//wp-events-plugin.com//6.6.5//EN
TZID:Europe/Zurich
X-WR-TIMEZONE:Europe/Zurich
BEGIN:VEVENT
UID:2144@iggh.ch
DTSTART;TZID=Europe/Zurich:20220829T093000
DTEND;TZID=Europe/Zurich:20220829T110000
DTSTAMP:20220614T123730Z
URL:https://www.iggh.ch/agenda/2284-bern-englisch-nivau-b2-2022-08-29/
SUMMARY:2284 Bern – Englisch Niveau B2 - 3. Quartal 2022
DESCRIPTION:Leitung\nHans Stalder\n\nKursdaten\nMontag\, 8. August bis 12. 
 September 2022\nKein Kurs am 15. August 2022\n\nKursdauer\n09.30 - 11.00 U
 hr\, 5 × 2 Lektionen\n\nKursort\nWalkerhaus\, Belpstrasse 24\, 3007 Bern\
 n\nKursgeld\nCHF 200.00 für Nichtmitglieder\nCHF 100.00 für Mitglieder I
 GGH / pro audito\n\nAnmeldeschluss\n15. Juli 2022\n\nWeitere Informationen
 \nKostenlose Schnupperlektion jederzeit möglich!
ATTACH;FMTTYPE=image/jpeg:https://www.iggh.ch/wp-content/uploads/2021/05/F
 otolia_94419509_S.jpg
CATEGORIES:Englisch
END:VEVENT
BEGIN:VTIMEZONE
TZID:Europe/Zurich
X-LIC-LOCATION:Europe/Zurich
BEGIN:DAYLIGHT
DTSTART:20220327T030000
TZOFFSETFROM:+0100
TZOFFSETTO:+0200
TZNAME:CEST
END:DAYLIGHT
END:VTIMEZONE
END:VCALENDAR