BEGIN:VCALENDAR
VERSION:2.0
PRODID:-//wp-events-plugin.com//6.6.5//EN
TZID:Europe/Zurich
X-WR-TIMEZONE:Europe/Zurich
BEGIN:VEVENT
UID:1977@iggh.ch
DTSTART;TZID=Europe/Zurich:20221122T091500
DTEND;TZID=Europe/Zurich:20221122T111500
DTSTAMP:20220831T093130Z
URL:https://www.iggh.ch/agenda/2259-langenthal-hoertraining-mit-lippenlese
 n-2022-11-22/
SUMMARY:2259 Langenthal – Hörtraining mit Lippenlesen
DESCRIPTION:Leitung\nDoris Grünig\n\nKursdaten\nDienstag\, 01. November bi
 s 06. Dezember 2022\n\nKursdauer\n09.15 – 11.15 Uhr\, 6 × 2 Lektionen\n
 \nKursort\nKatholisches Kirchgemeindehaus\, Hasenmattstrasse 36\, 4900 Lan
 genthal\n\nKursgeld\nCHF 216.00 für Nichtmitglieder\nCHF 108.00 für Mitg
 lieder IGGH / pro audito\nCHF   72.00 für IV-Rentner oder AHV-Rentner m
 it EL\n\nAnmeldeschluss\n30. September 2022\n\nWeitere Informationen\nKost
 enlose Schnupperlektion jederzeit möglich!
ATTACH;FMTTYPE=image/jpeg:https://www.iggh.ch/wp-content/uploads/2021/05/d
 reamstime_m_180389937.jpg
CATEGORIES:Hörtraining mit Lippenlesen
END:VEVENT
BEGIN:VTIMEZONE
TZID:Europe/Zurich
X-LIC-LOCATION:Europe/Zurich
BEGIN:STANDARD
DTSTART:20221030T020000
TZOFFSETFROM:+0200
TZOFFSETTO:+0100
TZNAME:CET
END:STANDARD
END:VTIMEZONE
END:VCALENDAR