BEGIN:VCALENDAR
VERSION:2.0
PRODID:-//wp-events-plugin.com//6.6.5//EN
TZID:Europe/Zurich
X-WR-TIMEZONE:Europe/Zurich
BEGIN:VEVENT
UID:1629@iggh.ch
DTSTART;TZID=Europe/Zurich:20220826T000000
DTEND;TZID=Europe/Zurich:20220826T000000
DTSTAMP:20220822T120715Z
URL:https://www.iggh.ch/agenda/2235-ferienwoche-2022-in-urnaesch-2022-08-2
 6/
SUMMARY:2235 Ferienwoche 2022 in Urnäsch
DESCRIPTION:2235 Ferienwoche 2022 in Urnäsch\nIn der Woche vom 20. bis 27.
  August 2022 wartet in Urnäsch das Hotel Krone auf uns mit vielen Ausflug
 smöglichkeiten im Appenzellerland. Ob auf dem Säntis oder im Museum für
  AppenzellerBrauchtum\, es ist für jeden etwas dabei.\nDie Ferienwoche wi
 rd von pro audito bern unterstützt.\n\nLeitung\nTeam Ferienwoche\n\nFerie
 nwoche\nSamstag\, 20. bis 27. August 2022\n\nFerienort\nHotel Krone\, Appe
 nzellerstrasse 2\, 9107 Urnäsch\n\nKosten\nHotelzimmer mit Halbpension\nC
 HF 1000.00 für Nichtmitglieder\nCHF 700.00 für Mitglieder IGGH/pro audit
 o\nCHF 500.00 für IV/EL-Bezüger\n\nPauschale Ausflüge während der Woch
 e\nCHF 50.00 ohne Vergünstigung\nCHF 25.00 Teilnehmende mit Halbtax (Swis
 spass)\nCHF 10.00 Teilnehmende mit Generalabonnement\nZusätzlich Anteil d
 er An- und Abreise (Betrag ändert sich je nach Anzahl Teilnehmenden)\n\nA
 nmeldeschluss\n29. April 2022\n
ATTACH;FMTTYPE=image/jpeg:https://www.iggh.ch/wp-content/uploads/2021/12/9
 EA3EF47-E81F-4F54-A19B-2DA494D30CE81-scaled.jpg
CATEGORIES:Ferienwoche
END:VEVENT
BEGIN:VTIMEZONE
TZID:Europe/Zurich
X-LIC-LOCATION:Europe/Zurich
BEGIN:DAYLIGHT
DTSTART:20220327T030000
TZOFFSETFROM:+0100
TZOFFSETTO:+0200
TZNAME:CEST
END:DAYLIGHT
END:VTIMEZONE
END:VCALENDAR