BEGIN:VCALENDAR
VERSION:2.0
PRODID:-//wp-events-plugin.com//6.6.5//EN
TZID:Europe/Zurich
X-WR-TIMEZONE:Europe/Zurich
BEGIN:VEVENT
UID:4606@iggh.ch
DTSTART;TZID=Europe/Zurich:20250307T200000
DTEND;TZID=Europe/Zurich:20250307T200000
DTSTAMP:20250312T073239Z
URL:https://www.iggh.ch/agenda/20-literaturfestival-literaare-zora-del-buo
 no/
SUMMARY:20. Literaturfestival Literaare: Eröffnungslesung mit Zora del Buo
 no und Vernissage
DESCRIPTION:Ein Autounfall\, ein Leben vorbei – und eine Tochter\, die ih
 ren Vater nie kennenlernen konnte. Zora del Buono war acht Monate alt\, al
 s der tragische Verlust ihre Familie traf. Jahrzehnte später wagt sie mit
  ihrem Roman «Seinetwegen» den Blick in die Vergangenheit.\n\nMit feinf
 ühliger Recherche und eindringlichen Gesprächen setzt sie ihrem Vater\, 
 den sie nur von Fotos kennt\, ein bewegendes Denkmal. Ausgezeichnet mit de
 m Schweizer Buchpreis 2024\, berührt dieses Werk auf jeder Seite.\n\nErö
 ffnungslesung und Vermissage mit Gebärdensprachdolmetschdienst\n\n20.00 U
 hr Buchvorlesung Zora del Buono\n\n21.30 Uhr Vernissage Jubiläumszeitung\
 n\nMehr Informationen unter www.literaare.ch\n\nUpdate: Es gibt keine Tick
 ets mehr im Online-Verkauf\, aber es sind noch spezielle Plätze für geh
 örlose Teilnehmende vor Ort an der Festivalkasse erhältlich.\n&nbsp\;\nB
 ild: www.literaare.ch
ATTACH;FMTTYPE=image/jpeg:https://www.iggh.ch/wp-content/uploads/2025/01/S
 creenshot-2025-01-27-123605.png
CATEGORIES:Gebärdensprache DSGS,Kulturelle
 Veranstaltung,Partnerorganisation
END:VEVENT
BEGIN:VTIMEZONE
TZID:Europe/Zurich
X-LIC-LOCATION:Europe/Zurich
BEGIN:STANDARD
DTSTART:20241027T020000
TZOFFSETFROM:+0200
TZOFFSETTO:+0100
TZNAME:CET
END:STANDARD
END:VTIMEZONE
END:VCALENDAR