BEGIN:VCALENDAR
VERSION:2.0
PRODID:-//wp-events-plugin.com//6.6.5//EN
TZID:Europe/Zurich
X-WR-TIMEZONE:Europe/Zurich
BEGIN:VEVENT
UID:5623@iggh.ch
DTSTART;TZID=Europe/Zurich:20260501T160000
DTEND;TZID=Europe/Zurich:20260501T160000
DTSTAMP:20260422T152604Z
URL:https://www.iggh.ch/agenda/1-mai-thun/
SUMMARY:1.-Mai-Fest in Thun: Politik und Musik in Gebärdensprache
DESCRIPTION:Am 1. Mai wird der Rathausplatz Thun zum Treffpunkt für politi
 sche Anliegen\, Musik und Austausch. Das Programm setzt ein Zeichen für J
 obs und faire Löhne. Der Anlass wird in Gebärdensprache übersetzt.\nAb 
 16.00 Uhr folgen Begrüssung\, Musik\, Ansprachen und ein Talk. Mit dabei 
 sind unter anderem Trummer und Band\, Matteo Antonini von syndicom sowie T
 imo Junger von der AirBnB-Initiative. Moderiert wird der Anlass von Lara B
 ezio.\nFlyer 1. Mai-Fest in Thun
ATTACH;FMTTYPE=image/jpeg:https://www.iggh.ch/wp-content/uploads/2026/04/S
 creenshot-2026-04-22-165932.jpg
CATEGORIES:Gebärdensprache DSGS,Kulturelle
 Veranstaltung,Partnerorganisation
END:VEVENT
BEGIN:VTIMEZONE
TZID:Europe/Zurich
X-LIC-LOCATION:Europe/Zurich
BEGIN:DAYLIGHT
DTSTART:20260329T030000
TZOFFSETFROM:+0100
TZOFFSETTO:+0200
TZNAME:CEST
END:DAYLIGHT
END:VTIMEZONE
END:VCALENDAR