BEGIN:VCALENDAR
VERSION:2.0
PRODID:-//wp-events-plugin.com//6.6.5//EN
TZID:Europe/Zurich
X-WR-TIMEZONE:Europe/Zurich
BEGIN:VEVENT
UID:5625@iggh.ch
DTSTART;TZID=Europe/Zurich:20260530T000000
DTEND;TZID=Europe/Zurich:20260530T000000
DTSTAMP:20260423T083408Z
URL:https://www.iggh.ch/agenda/1-mai-thun-2/
SUMMARY:Reporter:innen ohne Barrieren: Umfrage zur Gewalt im Alltag
DESCRIPTION:Menschen mit Behinderungen erleben häufiger Gewalt als andere.
  Besonders betroffen sind Personen\, die in Wohneinrichtungen leben und im
  Alltag stark von Unterstützung abhängig sind. Gerade dort\, wo Schutz u
 nd Verlässlichkeit wichtig wären\, können Grenzverletzungen\, Zwang ode
 r Beschimpfungen schwer wiegen.\n\nEine neue Umfrage von CORRECTIV.Schweiz
  und Reporter:innen ohne Barrieren will Erfahrungen und Hinweise sammeln\,
  damit Missstände sichtbar werden.\n\nDie Umfrage richtet sich an Betroff
 ene\, aber auch an Angehörige\, Beistände\, Vertrauenspersonen und Betre
 uungspersonen. Sie kann anonym ausgefüllt werden und ist in leichter Spra
 che verfasst. Das erleichtert den Zugang und hilft mit\, dass mehr Erfahru
 ngen sichtbar werden. Die Umfrage läuft bis Ende Mai 2026.\ncorrectiv.lin
 k/alltagsgewalt\n\nFoto: NJ Lanzaderas\, pexels.com
ATTACH;FMTTYPE=image/jpeg:https://www.iggh.ch/wp-content/uploads/2026/04/U
 nbenannt-1.jpg
CATEGORIES:Partnerorganisation
END:VEVENT
BEGIN:VTIMEZONE
TZID:Europe/Zurich
X-LIC-LOCATION:Europe/Zurich
BEGIN:DAYLIGHT
DTSTART:20260329T030000
TZOFFSETFROM:+0100
TZOFFSETTO:+0200
TZNAME:CEST
END:DAYLIGHT
END:VTIMEZONE
END:VCALENDAR